BEGIN:VCALENDAR
VERSION:2.0
PRODID:-//The Upstate Sound - ECPv6.15.20//NONSGML v1.0//EN
CALSCALE:GREGORIAN
METHOD:PUBLISH
X-ORIGINAL-URL:https://theupstatesound.com
X-WR-CALDESC:Events for The Upstate Sound
REFRESH-INTERVAL;VALUE=DURATION:PT1H
X-Robots-Tag:noindex
X-PUBLISHED-TTL:PT1H
BEGIN:VTIMEZONE
TZID:America/Chicago
BEGIN:DAYLIGHT
TZOFFSETFROM:-0600
TZOFFSETTO:-0500
TZNAME:CDT
DTSTART:20240310T080000
END:DAYLIGHT
BEGIN:STANDARD
TZOFFSETFROM:-0500
TZOFFSETTO:-0600
TZNAME:CST
DTSTART:20241103T070000
END:STANDARD
BEGIN:DAYLIGHT
TZOFFSETFROM:-0600
TZOFFSETTO:-0500
TZNAME:CDT
DTSTART:20250309T080000
END:DAYLIGHT
BEGIN:STANDARD
TZOFFSETFROM:-0500
TZOFFSETTO:-0600
TZNAME:CST
DTSTART:20251102T070000
END:STANDARD
BEGIN:DAYLIGHT
TZOFFSETFROM:-0600
TZOFFSETTO:-0500
TZNAME:CDT
DTSTART:20260308T080000
END:DAYLIGHT
BEGIN:STANDARD
TZOFFSETFROM:-0500
TZOFFSETTO:-0600
TZNAME:CST
DTSTART:20261101T070000
END:STANDARD
END:VTIMEZONE
BEGIN:VEVENT
DTSTART;TZID=America/Chicago:20251004T180000
DTEND;TZID=America/Chicago:20251004T220000
DTSTAMP:20260423T152551
CREATED:20250924T223324Z
LAST-MODIFIED:20250924T232222Z
UID:4429-1759600800-1759615200@theupstatesound.com
SUMMARY:Under the String Lights
DESCRIPTION:Step into an evening of music and community at The Upstate Sound’s first backyard label showcase. We’re turning our Ashwood Ave space into an intimate stage where some of Nashville’s most exciting new artists and songwriters will perform. \n​This night is about discovery — the raw talent shaping Music City’s next wave. Think string lights overhead\, crisp October air\, and songs that stay with you long after the last note. \n​We hope this is the beginning of a tradition: a regular gathering where emerging voices get the spotlight they deserve. Bring your friends\, come ready to listen\, and be part of a moment that celebrates the future of Nashville music.
URL:https://theupstatesound.com/event/under-the-string-lights/
LOCATION:The Upstate Sound\, 1406 Ashwood Avenue\, Nashville\, TN\, 37212\, United States
CATEGORIES:Community Gatherings,Emerging Artist Showcases,Indie & Alternative Gigs,Live Concerts,Local Events,Nashville Music Events,Showcases,Singer-Songwriter Performances
ATTACH;FMTTYPE=image/jpeg:https://theupstatesound.com/wp-content/uploads/2025/09/The-Upstate-Sound-Presents-Under-The-String-Lights.jpg
ORGANIZER;CN="Upstate Live":MAILTO:events@theupstatesound.com
END:VEVENT
END:VCALENDAR